BEGIN:VCALENDAR
VERSION:2.0
PRODID:-//Papillons de Leins - ECPv4.5.7//NONSGML v1.0//EN
CALSCALE:GREGORIAN
METHOD:PUBLISH
X-WR-CALNAME:Papillons de Leins
X-ORIGINAL-URL:http://www.country-lespapillonsdeleins.fr
X-WR-CALDESC:Events for Papillons de Leins
BEGIN:VEVENT
DTSTART;VALUE=DATE:20160220
DTEND;VALUE=DATE:20160220
DTSTAMP:20260423T023701
CREATED:20151017T134605Z
LAST-MODIFIED:20151017T134610Z
UID:1206-1455926400-1456012799@www.country-lespapillonsdeleins.fr
SUMMARY:SOIREE TEXAS 30
DESCRIPTION:
URL:http://www.country-lespapillonsdeleins.fr/agenda/soiree-texas-30/
LOCATION:ST HILAIRE DE BRETHMAS
CATEGORIES:Agenda partenaires,Soirées
END:VEVENT
END:VCALENDAR