BEGIN:VCALENDAR
VERSION:2.0
PRODID:-//Papillons de Leins - ECPv4.5.7//NONSGML v1.0//EN
CALSCALE:GREGORIAN
METHOD:PUBLISH
X-WR-CALNAME:Papillons de Leins
X-ORIGINAL-URL:http://www.country-lespapillonsdeleins.fr
X-WR-CALDESC:Events for Papillons de Leins
BEGIN:VEVENT
DTSTART;TZID=UTC+1:20141011T110000
DTEND;TZID=UTC+1:20141011T170000
DTSTAMP:20260423T052942
CREATED:20140927T174400Z
LAST-MODIFIED:20140927T174406Z
UID:800-1413025200-1413046800@www.country-lespapillonsdeleins.fr
SUMMARY:Soirée de BLUE COUNTRY en Ardèches
DESCRIPTION:Soirée avec Isabelle Blue Country 07 à la Chapelle sous Aubenas \n
URL:http://www.country-lespapillonsdeleins.fr/agenda/soiree-de-blue-country-en-ardeches/
LOCATION:La Chapelle sous Aubenas\, 07
CATEGORIES:Agenda partenaires,Soirées
END:VEVENT
END:VCALENDAR