BEGIN:VCALENDAR
VERSION:2.0
PRODID:-//Papillons de Leins - ECPv4.5.7//NONSGML v1.0//EN
CALSCALE:GREGORIAN
METHOD:PUBLISH
X-WR-CALNAME:Papillons de Leins
X-ORIGINAL-URL:http://www.country-lespapillonsdeleins.fr
X-WR-CALDESC:Events for Papillons de Leins
BEGIN:VEVENT
DTSTART;TZID=UTC+1:20190223T190000
DTEND;TZID=UTC+1:20190224T010000
DTSTAMP:20260422T174249
CREATED:20190202T184531Z
LAST-MODIFIED:20190202T184645Z
UID:1990-1550948400-1550970000@www.country-lespapillonsdeleins.fr
SUMMARY:SOIREE COUNTRY TEXAS 30
DESCRIPTION:
URL:http://www.country-lespapillonsdeleins.fr/agenda/soiree-country-texas-30-2/
CATEGORIES:Agenda partenaires,Soirées
END:VEVENT
END:VCALENDAR