BEGIN:VCALENDAR
VERSION:2.0
PRODID:-//Papillons de Leins - ECPv4.5.7//NONSGML v1.0//EN
CALSCALE:GREGORIAN
METHOD:PUBLISH
X-WR-CALNAME:Papillons de Leins
X-ORIGINAL-URL:http://www.country-lespapillonsdeleins.fr
X-WR-CALDESC:Events for Papillons de Leins
BEGIN:VEVENT
DTSTART;TZID=UTC+1:20211106T193000
DTEND;TZID=UTC+1:20211107T003000
DTSTAMP:20260422T092454
CREATED:20211011T172840Z
LAST-MODIFIED:20211011T172840Z
UID:2302-1636227000-1636245000@www.country-lespapillonsdeleins.fr
SUMMARY:SOIREE COUNTRY ST GILLES
DESCRIPTION:
URL:http://www.country-lespapillonsdeleins.fr/agenda/soiree-country-st-gilles/
CATEGORIES:Agenda partenaires,Soirées
END:VEVENT
END:VCALENDAR