BEGIN:VCALENDAR
VERSION:2.0
PRODID:-//Papillons de Leins - ECPv4.5.7//NONSGML v1.0//EN
CALSCALE:GREGORIAN
METHOD:PUBLISH
X-WR-CALNAME:Papillons de Leins
X-ORIGINAL-URL:http://www.country-lespapillonsdeleins.fr
X-WR-CALDESC:Events for Papillons de Leins
BEGIN:VEVENT
DTSTART;VALUE=DATE:20180421
DTEND;VALUE=DATE:20180421
DTSTAMP:20260422T191822
CREATED:20170916T065424Z
LAST-MODIFIED:20170916T065424Z
UID:1682-1524268800-1524355199@www.country-lespapillonsdeleins.fr
SUMMARY:SOIREE COUNTRY DES PAPILLONS
DESCRIPTION:
URL:http://www.country-lespapillonsdeleins.fr/agenda/soiree-country-des-papillons/
LOCATION:CRUVIERS LASCOURS\, 30190\, France
CATEGORIES:Agenda des Papillons,Agenda partenaires,Soirées
ORGANIZER;CN="Les%20Papillons%20de%20Leins":MAILTO:lespapillonsdeleins@yahoo.fr
END:VEVENT
END:VCALENDAR