BEGIN:VCALENDAR
VERSION:2.0
PRODID:-//Papillons de Leins - ECPv4.5.7//NONSGML v1.0//EN
CALSCALE:GREGORIAN
METHOD:PUBLISH
X-WR-CALNAME:Papillons de Leins
X-ORIGINAL-URL:http://www.country-lespapillonsdeleins.fr
X-WR-CALDESC:Events for Papillons de Leins
BEGIN:VEVENT
DTSTART;VALUE=DATE:20190119
DTEND;VALUE=DATE:20190119
DTSTAMP:20260422T161219
CREATED:20180715T163807Z
LAST-MODIFIED:20180907T174727Z
UID:1906-1547856000-1547942399@www.country-lespapillonsdeleins.fr
SUMMARY:Soirée Country chez DAISY Samedi 19/01/19
DESCRIPTION:
URL:http://www.country-lespapillonsdeleins.fr/agenda/soiree-country-chez-daisy-samedi-190119/
LOCATION:Marguerittes\, 30320
CATEGORIES:Agenda partenaires,Soirées
END:VEVENT
END:VCALENDAR