BEGIN:VCALENDAR
VERSION:2.0
PRODID:-//Papillons de Leins - ECPv4.5.7//NONSGML v1.0//EN
CALSCALE:GREGORIAN
METHOD:PUBLISH
X-WR-CALNAME:Papillons de Leins
X-ORIGINAL-URL:http://www.country-lespapillonsdeleins.fr
X-WR-CALDESC:Events for Papillons de Leins
BEGIN:VEVENT
DTSTART;VALUE=DATE:20181208
DTEND;VALUE=DATE:20181208
DTSTAMP:20260422T160906
CREATED:20180715T163434Z
LAST-MODIFIED:20180907T174545Z
UID:1902-1544227200-1544313599@www.country-lespapillonsdeleins.fr
SUMMARY:Soirée Country Caissargues
DESCRIPTION:
URL:http://www.country-lespapillonsdeleins.fr/agenda/soiree-country-caissargues/
LOCATION:Caissargues
CATEGORIES:Agenda partenaires,Soirées
END:VEVENT
END:VCALENDAR