BEGIN:VCALENDAR
VERSION:2.0
PRODID:-//Papillons de Leins - ECPv4.5.7//NONSGML v1.0//EN
CALSCALE:GREGORIAN
METHOD:PUBLISH
X-WR-CALNAME:Papillons de Leins
X-ORIGINAL-URL:http://www.country-lespapillonsdeleins.fr
X-WR-CALDESC:Events for Papillons de Leins
BEGIN:VEVENT
DTSTART;VALUE=DATE:20181020
DTEND;VALUE=DATE:20181020
DTSTAMP:20260422T174537
CREATED:20180715T163344Z
LAST-MODIFIED:20180715T163344Z
UID:1899-1539993600-1540079999@www.country-lespapillonsdeleins.fr
SUMMARY:Soirée Country Caissargues le 20/10/2018
DESCRIPTION:
URL:http://www.country-lespapillonsdeleins.fr/agenda/soiree-country-caissargues-le-20102018/
LOCATION:Caissargues\, France
CATEGORIES:Agenda partenaires,Soirées
END:VEVENT
END:VCALENDAR