BEGIN:VCALENDAR
VERSION:2.0
PRODID:-//Papillons de Leins - ECPv4.5.7//NONSGML v1.0//EN
CALSCALE:GREGORIAN
METHOD:PUBLISH
X-WR-CALNAME:Papillons de Leins
X-ORIGINAL-URL:http://www.country-lespapillonsdeleins.fr
X-WR-CALDESC:Events for Papillons de Leins
BEGIN:VEVENT
DTSTART;TZID=UTC+1:20211204T190000
DTEND;TZID=UTC+1:20211205T003000
DTSTAMP:20260424T191453
CREATED:20211011T173034Z
LAST-MODIFIED:20211011T173034Z
UID:2305-1638644400-1638664200@www.country-lespapillonsdeleins.fr
SUMMARY:SOIREE COUNTRY BAGARD
DESCRIPTION:
URL:http://www.country-lespapillonsdeleins.fr/agenda/soiree-country-bagard/
LOCATION:BAGARD
CATEGORIES:Agenda partenaires,Soirées
END:VEVENT
END:VCALENDAR