BEGIN:VCALENDAR
VERSION:2.0
PRODID:-//Papillons de Leins - ECPv4.5.7//NONSGML v1.0//EN
CALSCALE:GREGORIAN
METHOD:PUBLISH
X-WR-CALNAME:Papillons de Leins
X-ORIGINAL-URL:http://www.country-lespapillonsdeleins.fr
X-WR-CALDESC:Events for Papillons de Leins
BEGIN:VEVENT
DTSTART;VALUE=DATE:20151128
DTEND;VALUE=DATE:20151128
DTSTAMP:20260423T035821
CREATED:20151016T184456Z
LAST-MODIFIED:20151016T184456Z
UID:1194-1448668800-1448755199@www.country-lespapillonsdeleins.fr
SUMMARY:SOIREE COUNTRY AVEC CHANTOU
DESCRIPTION:
URL:http://www.country-lespapillonsdeleins.fr/agenda/soiree-country-avec-chantou/
LOCATION:St Florent sur Auzonnet\, France
CATEGORIES:Agenda partenaires,Soirées
END:VEVENT
END:VCALENDAR