BEGIN:VCALENDAR
VERSION:2.0
PRODID:-//Papillons de Leins - ECPv4.5.7//NONSGML v1.0//EN
CALSCALE:GREGORIAN
METHOD:PUBLISH
X-WR-CALNAME:Papillons de Leins
X-ORIGINAL-URL:http://www.country-lespapillonsdeleins.fr
X-WR-CALDESC:Events for Papillons de Leins
BEGIN:VEVENT
DTSTART;VALUE=DATE:20181117
DTEND;VALUE=DATE:20181117
DTSTAMP:20260422T192105
CREATED:20180715T162752Z
LAST-MODIFIED:20180907T175159Z
UID:1893-1542412800-1542499199@www.country-lespapillonsdeleins.fr
SUMMARY:Soirée Country à Rodilhan 17/11/2018 Buffalon Country
DESCRIPTION:
URL:http://www.country-lespapillonsdeleins.fr/agenda/soiree-country-a-rodilhan-17112018-buffalon-country/
CATEGORIES:Agenda partenaires,Soirées
END:VEVENT
END:VCALENDAR