BEGIN:VCALENDAR
VERSION:2.0
PRODID:-//Papillons de Leins - ECPv4.5.7//NONSGML v1.0//EN
CALSCALE:GREGORIAN
METHOD:PUBLISH
X-WR-CALNAME:Papillons de Leins
X-ORIGINAL-URL:http://www.country-lespapillonsdeleins.fr
X-WR-CALDESC:Events for Papillons de Leins
BEGIN:VEVENT
DTSTART;TZID=UTC+1:20160919T080000
DTEND;TZID=UTC+1:20160919T170000
DTSTAMP:20260423T023947
CREATED:20160919T123853Z
LAST-MODIFIED:20160919T124015Z
UID:1442-1474272000-1474304400@www.country-lespapillonsdeleins.fr
SUMMARY:Soirée Country à Caissargues à 19h
DESCRIPTION:
URL:http://www.country-lespapillonsdeleins.fr/agenda/soiree-country-a-caissargues-a-19h/
LOCATION:Caissargues
CATEGORIES:Agenda partenaires,Soirées
END:VEVENT
END:VCALENDAR