BEGIN:VCALENDAR
VERSION:2.0
PRODID:-//Papillons de Leins - ECPv4.5.7//NONSGML v1.0//EN
CALSCALE:GREGORIAN
METHOD:PUBLISH
X-WR-CALNAME:Papillons de Leins
X-ORIGINAL-URL:http://www.country-lespapillonsdeleins.fr
X-WR-CALDESC:Events for Papillons de Leins
BEGIN:VEVENT
DTSTART;VALUE=DATE:20180210
DTEND;VALUE=DATE:20180210
DTSTAMP:20260422T205042
CREATED:20171015T092709Z
LAST-MODIFIED:20171015T092727Z
UID:1722-1518220800-1518307199@www.country-lespapillonsdeleins.fr
SUMMARY:Soirée Country à Bagard
DESCRIPTION:
URL:http://www.country-lespapillonsdeleins.fr/agenda/soiree-country-a-bagard-3/
LOCATION:BAGARD
CATEGORIES:Agenda partenaires,Soirées
END:VEVENT
END:VCALENDAR