BEGIN:VCALENDAR
VERSION:2.0
PRODID:-//Papillons de Leins - ECPv4.5.7//NONSGML v1.0//EN
CALSCALE:GREGORIAN
METHOD:PUBLISH
X-WR-CALNAME:Papillons de Leins
X-ORIGINAL-URL:http://www.country-lespapillonsdeleins.fr
X-WR-CALDESC:Events for Papillons de Leins
BEGIN:VEVENT
DTSTART;VALUE=DATE:20160117
DTEND;VALUE=DATE:20160117
DTSTAMP:20260423T024320
CREATED:20151017T134055Z
LAST-MODIFIED:20151017T134055Z
UID:1199-1452988800-1453075199@www.country-lespapillonsdeleins.fr
SUMMARY:SOIREE CEVENNES COUNTRY DANCE
DESCRIPTION:
URL:http://www.country-lespapillonsdeleins.fr/agenda/soiree-cevennes-country-dance/
LOCATION:ST PRIVAT DES VIEUX
CATEGORIES:Agenda partenaires,Soirées
END:VEVENT
END:VCALENDAR