BEGIN:VCALENDAR
VERSION:2.0
PRODID:-//Papillons de Leins - ECPv4.5.7//NONSGML v1.0//EN
CALSCALE:GREGORIAN
METHOD:PUBLISH
X-WR-CALNAME:Papillons de Leins
X-ORIGINAL-URL:http://www.country-lespapillonsdeleins.fr
X-WR-CALDESC:Events for Papillons de Leins
BEGIN:VEVENT
DTSTART;VALUE=DATE:20180602
DTEND;VALUE=DATE:20180602
DTSTAMP:20260422T205031
CREATED:20171125T164834Z
LAST-MODIFIED:20171125T164834Z
UID:1775-1527897600-1527983999@www.country-lespapillonsdeleins.fr
SUMMARY:Journée Country Stage Severine Fillon & Soirée Daisy Marguerittes
DESCRIPTION:
URL:http://www.country-lespapillonsdeleins.fr/agenda/journee-country-stage-severine-fillon-soiree-daisy-marguerittes/
CATEGORIES:Agenda partenaires,Soirées
END:VEVENT
END:VCALENDAR