BEGIN:VCALENDAR
VERSION:2.0
PRODID:-//Papillons de Leins - ECPv4.5.7//NONSGML v1.0//EN
CALSCALE:GREGORIAN
METHOD:PUBLISH
X-WR-CALNAME:Papillons de Leins
X-ORIGINAL-URL:http://www.country-lespapillonsdeleins.fr
X-WR-CALDESC:Events for Papillons de Leins
BEGIN:VEVENT
DTSTART;VALUE=DATE:20180520
DTEND;VALUE=DATE:20180520
DTSTAMP:20260422T191738
CREATED:20180501T180245Z
LAST-MODIFIED:20180501T180245Z
UID:1836-1526774400-1526860799@www.country-lespapillonsdeleins.fr
SUMMARY:FESTY' COUNTRY ACCRO LES ANGLES ARNAUD
DESCRIPTION:
URL:http://www.country-lespapillonsdeleins.fr/agenda/festy-country-accro-les-angles-arnaud/
CATEGORIES:Agenda partenaires,Soirées
END:VEVENT
END:VCALENDAR