BEGIN:VCALENDAR
VERSION:2.0
PRODID:-//Papillons de Leins - ECPv4.5.7//NONSGML v1.0//EN
CALSCALE:GREGORIAN
METHOD:PUBLISH
X-WR-CALNAME:Papillons de Leins
X-ORIGINAL-URL:http://www.country-lespapillonsdeleins.fr
X-WR-CALDESC:Events for Papillons de Leins
BEGIN:VEVENT
DTSTART;VALUE=DATE:20181006
DTEND;VALUE=DATE:20181006
DTSTAMP:20260422T174249
CREATED:20180501T180703Z
LAST-MODIFIED:20180501T181146Z
UID:1841-1538784000-1538870399@www.country-lespapillonsdeleins.fr
SUMMARY:COUNTRY DREAM A ROQUEMAURE
DESCRIPTION:
URL:http://www.country-lespapillonsdeleins.fr/agenda/country-dream-a-roquemaure/
LOCATION:Roquemaure
CATEGORIES:Agenda partenaires,Soirées
END:VEVENT
END:VCALENDAR