BEGIN:VCALENDAR
VERSION:2.0
PRODID:-//Papillons de Leins - ECPv4.5.7//NONSGML v1.0//EN
CALSCALE:GREGORIAN
METHOD:PUBLISH
X-WR-CALNAME:Papillons de Leins
X-ORIGINAL-URL:http://www.country-lespapillonsdeleins.fr
X-WR-CALDESC:Events for Papillons de Leins
BEGIN:VEVENT
DTSTART;TZID=UTC+1:20241110T140000
DTEND;TZID=UTC+1:20241110T190000
DTSTAMP:20260422T154525
CREATED:20240221T184518Z
LAST-MODIFIED:20240221T184608Z
UID:2632-1731247200-1731265200@www.country-lespapillonsdeleins.fr
SUMMARY:CEVEN'S CANYON COUNTRY APRES MIDI COUNTRY LE 10/11/24
DESCRIPTION: \n
URL:http://www.country-lespapillonsdeleins.fr/agenda/cevens-canyon-country-apres-midi-countryv101124/
CATEGORIES:Agenda partenaires,Soirées
END:VEVENT
END:VCALENDAR