BEGIN:VCALENDAR
VERSION:2.0
PRODID:-//Papillons de Leins - ECPv4.5.7//NONSGML v1.0//EN
CALSCALE:GREGORIAN
METHOD:PUBLISH
X-WR-CALNAME:Papillons de Leins
X-ORIGINAL-URL:http://www.country-lespapillonsdeleins.fr
X-WR-CALDESC:Events for Papillons de Leins
BEGIN:VEVENT
DTSTART;VALUE=DATE:20190106
DTEND;VALUE=DATE:20190106
DTSTAMP:20260422T161258
CREATED:20180715T163643Z
LAST-MODIFIED:20180907T152110Z
UID:1904-1546732800-1546819199@www.country-lespapillonsdeleins.fr
SUMMARY:Après-Midi Country Chez Rockamini VALLON PONT D'ARC
DESCRIPTION:
URL:http://www.country-lespapillonsdeleins.fr/agenda/apres-midi-country-chez-rockamini-vallon-pont-darc/
LOCATION:VALLON PONT D'ARC
CATEGORIES:Agenda partenaires,Soirées
END:VEVENT
END:VCALENDAR