BEGIN:VCALENDAR
VERSION:2.0
PRODID:-//Papillons de Leins - ECPv4.5.7//NONSGML v1.0//EN
CALSCALE:GREGORIAN
METHOD:PUBLISH
X-WR-CALNAME:Papillons de Leins
X-ORIGINAL-URL:http://www.country-lespapillonsdeleins.fr
X-WR-CALDESC:Events for Papillons de Leins
BEGIN:VEVENT
DTSTART;VALUE=DATE:20190203
DTEND;VALUE=DATE:20190203
DTSTAMP:20260422T161136
CREATED:20180715T164048Z
LAST-MODIFIED:20180907T150053Z
UID:1910-1549152000-1549238399@www.country-lespapillonsdeleins.fr
SUMMARY:Après-Midi Country Caissargues
DESCRIPTION:
URL:http://www.country-lespapillonsdeleins.fr/agenda/apres-midi-country-caissargues/
CATEGORIES:Agenda partenaires,Soirées
END:VEVENT
END:VCALENDAR